BEGIN:VCALENDAR
PRODID:-//eluceo/ical//2.0/EN
VERSION:2.0
CALSCALE:GREGORIAN
BEGIN:VEVENT
UID:306ffcfdb11cf0fc2c155ebfd7819ff7
DTSTAMP:20260421T114422Z
SUMMARY:RYLA März 2016
DESCRIPTION:Das RYLA Frühling 2016 findet vom 11. - 13. März 2016 in Base
 l statt.
URL:https://ryla.rotary1980.ch/it/agenda/show/59230
DTSTART;TZID=Europe/Zurich:20160311T000000
DTEND;TZID=Europe/Zurich:20160313T000000
LOCATION:Basel
CATEGORIES:Rotary
END:VEVENT
BEGIN:VTIMEZONE
TZID:Europe/Zurich
BEGIN:STANDARD
DTSTART:20160311T000000
TZNAME:CET
TZOFFSETTO:+0100
TZOFFSETFROM:+0100
END:STANDARD
END:VTIMEZONE
END:VCALENDAR
