BEGIN:VCALENDAR
PRODID:-//eluceo/ical//2.0/EN
VERSION:2.0
CALSCALE:GREGORIAN
BEGIN:VEVENT
UID:fdd20322821db7d47598fcfd81e10c5a
DTSTAMP:20260421T111931Z
SUMMARY:Rotary Youth Leadership Award 2026
DESCRIPTION:
URL:https://ryla.rotary1980.ch/fr/agenda/show/210630
DTSTART;TZID=Europe/Zurich:20261120T170000
DTEND;TZID=Europe/Zurich:20261122T130000
LOCATION:Hotel Kettenbrücken\, Aarau
CATEGORIES:Rotary
END:VEVENT
BEGIN:VTIMEZONE
TZID:Europe/Zurich
BEGIN:STANDARD
DTSTART:20261120T170000
TZNAME:CET
TZOFFSETTO:+0100
TZOFFSETFROM:+0100
END:STANDARD
END:VTIMEZONE
END:VCALENDAR
